BEGIN:VCALENDAR
VERSION:2.0
PRODID:SchoolNow
CALSCALE:GREGORIAN
BEGIN:VEVENT
UID:1fa5521e-b4f1-11f0-a571-0a58a9feac02
DTSTAMP:20251216T154518Z
SUMMARY:PTA Family Fun Fair
URL;VALUE=URI:https://www.dg58.org/wh/calendar/8759501/pta-family-fun-fair
DTSTART:20260323T191500Z
DTEND:20260323T201500Z
END:VEVENT
END:VCALENDAR
