BEGIN:VCALENDAR
VERSION:2.0
PRODID:SchoolNow
CALSCALE:GREGORIAN
BEGIN:VEVENT
UID:7926961c-97f6-11f0-90f6-0a58a9feac02
DTSTAMP:20251216T154518Z
SUMMARY:Happy Orange Day
URL;VALUE=URI:https://www.dg58.org/wh/calendar/8653603/happy-orange-day
DTSTART;VALUE=DATE:20260511
DTEND;VALUE=DATE:20260512
END:VEVENT
END:VCALENDAR
