BEGIN:VCALENDAR
VERSION:2.0
PRODID:SchoolNow
CALSCALE:GREGORIAN
BEGIN:VEVENT
UID:79268e88-97f6-11f0-bf5a-0a58a9feac02
DTSTAMP:20251216T154518Z
SUMMARY:Happy Orange Day
URL;VALUE=URI:https://www.dg58.org/wh/calendar/8653595/happy-orange-day
DTSTART;VALUE=DATE:20260309
DTEND;VALUE=DATE:20260310
END:VEVENT
END:VCALENDAR
