BEGIN:VCALENDAR
VERSION:2.0
PRODID:SchoolNow
CALSCALE:GREGORIAN
BEGIN:VEVENT
UID:7926829e-97f6-11f0-84f8-0a58a9feac02
DTSTAMP:20251216T154518Z
SUMMARY:Happy Orange Day
URL;VALUE=URI:https://www.dg58.org/wh/calendar/8653591/happy-orange-day
DTSTART;VALUE=DATE:20260202
DTEND;VALUE=DATE:20260203
END:VEVENT
END:VCALENDAR
