BEGIN:VCALENDAR
VERSION:2.0
PRODID:SchoolNow
CALSCALE:GREGORIAN
BEGIN:VEVENT
UID:79267b6e-97f6-11f0-bb52-0a58a9feac02
DTSTAMP:20251216T154518Z
SUMMARY:Happy Orange Day
URL;VALUE=URI:https://www.dg58.org/wh/calendar/8653583/happy-orange-day
DTSTART;VALUE=DATE:20251124
DTEND;VALUE=DATE:20251125
END:VEVENT
END:VCALENDAR
