BEGIN:VCALENDAR
VERSION:2.0
PRODID:SchoolNow
CALSCALE:GREGORIAN
BEGIN:VEVENT
UID:792676f0-97f6-11f0-8286-0a58a9feac02
DTSTAMP:20251216T154518Z
SUMMARY:Happy Orange Day
URL;VALUE=URI:https://www.dg58.org/wh/calendar/8653578/happy-orange-day
DTSTART;VALUE=DATE:20251020
DTEND;VALUE=DATE:20251021
END:VEVENT
END:VCALENDAR
