BEGIN:VCALENDAR
VERSION:2.0
PRODID:SchoolNow
CALSCALE:GREGORIAN
BEGIN:VEVENT
UID:7926760a-97f6-11f0-a712-0a58a9feac02
DTSTAMP:20251216T154518Z
SUMMARY:Happy Orange Day
URL;VALUE=URI:https://www.dg58.org/wh/calendar/8653577/happy-orange-day
DTSTART;VALUE=DATE:20251006
DTEND;VALUE=DATE:20251007
END:VEVENT
END:VCALENDAR
