BEGIN:VCALENDAR
VERSION:2.0
PRODID:SchoolNow
CALSCALE:GREGORIAN
BEGIN:VEVENT
UID:79267524-97f6-11f0-bff3-0a58a9feac02
DTSTAMP:20251216T154518Z
SUMMARY:Happy Orange Day
URL;VALUE=URI:https://www.dg58.org/wh/calendar/8653576/happy-orange-day
DTSTART;VALUE=DATE:20250929
DTEND;VALUE=DATE:20250930
END:VEVENT
END:VCALENDAR
