BEGIN:VCALENDAR
VERSION:2.0
PRODID:SchoolNow
CALSCALE:GREGORIAN
BEGIN:VEVENT
UID:7926743e-97f6-11f0-8b2c-0a58a9feac02
DTSTAMP:20251216T154518Z
SUMMARY:Happy Orange Day
URL;VALUE=URI:https://www.dg58.org/wh/calendar/8653575/happy-orange-day
DTSTART;VALUE=DATE:20250922
DTEND;VALUE=DATE:20250923
END:VEVENT
END:VCALENDAR
