BEGIN:VCALENDAR
VERSION:2.0
PRODID:SchoolNow
CALSCALE:GREGORIAN
BEGIN:VEVENT
UID:792666a6-97f6-11f0-929c-0a58a9feac02
DTSTAMP:20251216T154518Z
SUMMARY:WH Spirit Day
URL;VALUE=URI:https://www.dg58.org/wh/calendar/8653560/wh-spirit-day
DTSTART;VALUE=DATE:20260220
DTEND;VALUE=DATE:20260221
END:VEVENT
END:VCALENDAR
