BEGIN:VCALENDAR
VERSION:2.0
PRODID:SchoolNow
CALSCALE:GREGORIAN
BEGIN:VEVENT
UID:792665c0-97f6-11f0-a543-0a58a9feac02
DTSTAMP:20251216T154518Z
SUMMARY:WH Spirit Day
URL;VALUE=URI:https://www.dg58.org/wh/calendar/8653559/wh-spirit-day
DTSTART;VALUE=DATE:20260213
DTEND;VALUE=DATE:20260214
END:VEVENT
END:VCALENDAR
