BEGIN:VCALENDAR
VERSION:2.0
PRODID:SchoolNow
CALSCALE:GREGORIAN
BEGIN:VEVENT
UID:7926614c-97f6-11f0-aaa2-0a58a9feac02
DTSTAMP:20251216T154518Z
SUMMARY:WH Spirit Day
URL;VALUE=URI:https://www.dg58.org/wh/calendar/8653554/wh-spirit-day
DTSTART;VALUE=DATE:20260109
DTEND;VALUE=DATE:20260110
END:VEVENT
END:VCALENDAR
