BEGIN:VCALENDAR
VERSION:2.0
PRODID:SchoolNow
CALSCALE:GREGORIAN
BEGIN:VEVENT
UID:79265e9a-97f6-11f0-bc13-0a58a9feac02
DTSTAMP:20251216T154518Z
SUMMARY:WH Spirit Day
URL;VALUE=URI:https://www.dg58.org/wh/calendar/8653551/wh-spirit-day
DTSTART;VALUE=DATE:20251212
DTEND;VALUE=DATE:20251213
END:VEVENT
END:VCALENDAR
