BEGIN:VCALENDAR
VERSION:2.0
PRODID:SchoolNow
CALSCALE:GREGORIAN
BEGIN:VEVENT
UID:7926583c-97f6-11f0-9eb2-0a58a9feac02
DTSTAMP:20251216T154518Z
SUMMARY:WH Spirit Day
URL;VALUE=URI:https://www.dg58.org/wh/calendar/8653544/wh-spirit-day
DTSTART;VALUE=DATE:20251017
DTEND;VALUE=DATE:20251018
END:VEVENT
END:VCALENDAR
