BEGIN:VCALENDAR
VERSION:2.0
PRODID:SchoolNow
CALSCALE:GREGORIAN
BEGIN:VEVENT
UID:79265382-97f6-11f0-b5a1-0a58a9feac02
DTSTAMP:20251216T154518Z
SUMMARY:Walking Club - Store Day
URL;VALUE=URI:https://www.dg58.org/wh/calendar/8653539/walking-club-store-d
 ay
DTSTART:20251029T164000Z
DTEND:20251029T174000Z
END:VEVENT
END:VCALENDAR
