BEGIN:VCALENDAR
VERSION:2.0
PRODID:SchoolNow
CALSCALE:GREGORIAN
BEGIN:VEVENT
UID:79265292-97f6-11f0-bb32-0a58a9feac02
DTSTAMP:20251216T154518Z
SUMMARY:Walking Club
URL;VALUE=URI:https://www.dg58.org/wh/calendar/8653538/walking-club
DTSTART:20251022T164000Z
DTEND:20251022T174000Z
END:VEVENT
END:VCALENDAR
