BEGIN:VCALENDAR
VERSION:2.0
PRODID:SchoolNow
CALSCALE:GREGORIAN
BEGIN:VEVENT
UID:79264f86-97f6-11f0-8229-0a58a9feac02
DTSTAMP:20251216T154518Z
SUMMARY:Walking Club
URL;VALUE=URI:https://www.dg58.org/wh/calendar/8653535/walking-club
DTSTART:20251001T164000Z
DTEND:20251001T174000Z
END:VEVENT
END:VCALENDAR
