BEGIN:VCALENDAR
VERSION:2.0
PRODID:SchoolNow
CALSCALE:GREGORIAN
BEGIN:VEVENT
UID:79264e28-97f6-11f0-bee0-0a58a9feac02
DTSTAMP:20251216T154518Z
SUMMARY:Run Wild Whittier - Fall Fundraiser
URL;VALUE=URI:https://www.dg58.org/wh/calendar/8653534/run-wild-whittier-fa
 ll-fundraiser
DTSTART;VALUE=DATE:20251005
DTEND;VALUE=DATE:20251006
END:VEVENT
END:VCALENDAR
