BEGIN:VCALENDAR
VERSION:2.0
PRODID:SchoolNow
CALSCALE:GREGORIAN
BEGIN:VEVENT
UID:79264ae0-97f6-11f0-881e-0a58a9feac02
DTSTAMP:20251216T154518Z
SUMMARY:Walk\, Bike\, & Roll to School Day
URL;VALUE=URI:https://www.dg58.org/wh/calendar/8653533/walk-bike-roll-to-sc
 hool-day
DTSTART;VALUE=DATE:20251008
DTEND;VALUE=DATE:20251009
END:VEVENT
END:VCALENDAR
