BEGIN:VCALENDAR
VERSION:2.0
PRODID:SchoolNow
CALSCALE:GREGORIAN
BEGIN:VEVENT
UID:231cb180-787e-11f0-868f-02f5246b18af
DTSTAMP:20251216T154518Z
SUMMARY:Fun Lunch
URL;VALUE=URI:https://www.dg58.org/wh/calendar/8505317/fun-lunch
DTSTART;VALUE=DATE:20260320
DTEND;VALUE=DATE:20260321
END:VEVENT
END:VCALENDAR
