BEGIN:VCALENDAR
VERSION:2.0
PRODID:SchoolNow
CALSCALE:GREGORIAN
BEGIN:VEVENT
UID:231cad16-787e-11f0-8407-02f5246b18af
DTSTAMP:20251216T154518Z
SUMMARY:Fun Lunch
URL;VALUE=URI:https://www.dg58.org/wh/calendar/8505312/fun-lunch
DTSTART;VALUE=DATE:20260109
DTEND;VALUE=DATE:20260110
END:VEVENT
END:VCALENDAR
