BEGIN:VCALENDAR
VERSION:2.0
PRODID:SchoolNow
CALSCALE:GREGORIAN
BEGIN:VEVENT
UID:231caa5a-787e-11f0-9554-02f5246b18af
DTSTAMP:20251216T154518Z
SUMMARY:Fun Lunch
URL;VALUE=URI:https://www.dg58.org/wh/calendar/8505309/fun-lunch
DTSTART;VALUE=DATE:20251107
DTEND;VALUE=DATE:20251108
END:VEVENT
END:VCALENDAR
