BEGIN:VCALENDAR
VERSION:2.0
PRODID:SchoolNow
CALSCALE:GREGORIAN
BEGIN:VEVENT
UID:231ca870-787e-11f0-bf05-02f5246b18af
DTSTAMP:20251216T154518Z
SUMMARY:Fun Lunch
URL;VALUE=URI:https://www.dg58.org/wh/calendar/8505307/fun-lunch
DTSTART;VALUE=DATE:20251017
DTEND;VALUE=DATE:20251018
END:VEVENT
END:VCALENDAR
