BEGIN:VCALENDAR
VERSION:2.0
PRODID:SchoolNow
CALSCALE:GREGORIAN
BEGIN:VEVENT
UID:231ca3ca-787e-11f0-8d1c-02f5246b18af
DTSTAMP:20251216T154518Z
SUMMARY:Fun Lunch
URL;VALUE=URI:https://www.dg58.org/wh/calendar/8505305/fun-lunch
DTSTART;VALUE=DATE:20250919
DTEND;VALUE=DATE:20250920
END:VEVENT
END:VCALENDAR
