BEGIN:VCALENDAR
VERSION:2.0
PRODID:SchoolNow
CALSCALE:GREGORIAN
BEGIN:VEVENT
UID:ff3c44f0-035d-11f0-b8a9-0e3e6634e62b
DTSTAMP:20251216T154518Z
SUMMARY:National Custodians Day
URL;VALUE=URI:https://www.dg58.org/wh/calendar/7707041/national-custodians-
 day
DTSTART;VALUE=DATE:20261002
DTEND;VALUE=DATE:20261003
END:VEVENT
END:VCALENDAR
