BEGIN:VCALENDAR
VERSION:2.0
PRODID:SchoolNow
CALSCALE:GREGORIAN
BEGIN:VEVENT
UID:4fc8a468-bbdd-11ef-8c5e-02cce8cedf25
DTSTAMP:20251216T154518Z
SUMMARY:Picture Retake Day
URL;VALUE=URI:https://www.dg58.org/wh/calendar/7182577/picture-retake-day
DTSTART;VALUE=DATE:20251024
DTEND;VALUE=DATE:20251025
END:VEVENT
END:VCALENDAR
