BEGIN:VCALENDAR
VERSION:2.0
PRODID:SchoolNow
CALSCALE:GREGORIAN
BEGIN:VEVENT
UID:4fc8a10c-bbdd-11ef-8256-02cce8cedf25
DTSTAMP:20251216T154518Z
SUMMARY:Picture Day
URL;VALUE=URI:https://www.dg58.org/wh/calendar/7182576/picture-day
DTSTART;VALUE=DATE:20250910
DTEND;VALUE=DATE:20250911
END:VEVENT
END:VCALENDAR
