BEGIN:VCALENDAR
VERSION:2.0
PRODID:SchoolNow
CALSCALE:GREGORIAN
BEGIN:VEVENT
UID:00ce268c-e2fb-11ee-9fbf-0a58a9feac02
DTSTAMP:20251216T154518Z
SUMMARY:National Custodians Day
URL;VALUE=URI:https://www.dg58.org/wh/calendar/5551109/national-custodians-
 day
DTSTART;VALUE=DATE:20251002
DTEND;VALUE=DATE:20251003
END:VEVENT
END:VCALENDAR
