BEGIN:VCALENDAR
VERSION:2.0
PRODID:SchoolNow
CALSCALE:GREGORIAN
BEGIN:VEVENT
UID:74b1200e-d601-11f0-aca3-028ea7dbf121
DTSTAMP:20251216T154518Z
SUMMARY:Chess Club
URL;VALUE=URI:https://www.dg58.org/on/calendar/8821382/chess-club
DTSTART:20260218T212500Z
DTEND:20260218T223000Z
END:VEVENT
END:VCALENDAR
