BEGIN:VCALENDAR
VERSION:2.0
PRODID:SchoolNow
CALSCALE:GREGORIAN
BEGIN:VEVENT
UID:74b11582-d601-11f0-bd6b-028ea7dbf121
DTSTAMP:20251216T154518Z
SUMMARY:Chess Club
URL;VALUE=URI:https://www.dg58.org/on/calendar/8821372/chess-club
DTSTART:20260127T212500Z
DTEND:20260127T223000Z
END:VEVENT
END:VCALENDAR
