BEGIN:VCALENDAR
VERSION:2.0
PRODID:SchoolNow
CALSCALE:GREGORIAN
BEGIN:VEVENT
UID:74b10f6a-d601-11f0-9696-028ea7dbf121
DTSTAMP:20251216T154518Z
SUMMARY:Chess Club
URL;VALUE=URI:https://www.dg58.org/on/calendar/8821366/chess-club
DTSTART:20260113T212500Z
DTEND:20260113T223000Z
END:VEVENT
END:VCALENDAR
