BEGIN:VCALENDAR
VERSION:2.0
PRODID:SchoolNow
CALSCALE:GREGORIAN
BEGIN:VEVENT
UID:7bdd5f3a-d568-11f0-b884-0e6c4b9a65d7
DTSTAMP:20251216T154517Z
SUMMARY:Christianity Club
LOCATION:room 175
URL;VALUE=URI:https://www.dg58.org/on/calendar/8820953/christianity-club
DTSTART:20251218T131500Z
DTEND:20251218T141500Z
END:VEVENT
END:VCALENDAR
