BEGIN:VCALENDAR
VERSION:2.0
PRODID:SchoolNow
CALSCALE:GREGORIAN
BEGIN:VEVENT
UID:7bdd5602-d568-11f0-a101-0e6c4b9a65d7
DTSTAMP:20251216T154517Z
SUMMARY:Christianity Club
LOCATION:room 175
URL;VALUE=URI:https://www.dg58.org/on/calendar/8820952/christianity-club
DTSTART:20251212T131500Z
DTEND:20251212T141500Z
END:VEVENT
END:VCALENDAR
