BEGIN:VCALENDAR
VERSION:2.0
PRODID:SchoolNow
CALSCALE:GREGORIAN
BEGIN:VEVENT
UID:ab4d200a-d1d2-11f0-98d7-0a58a9feac02
DTSTAMP:20251216T154518Z
SUMMARY:Jazz Band Rehearsal
LOCATION:Band Room
URL;VALUE=URI:https://www.dg58.org/on/calendar/8818212/jazz-band-rehearsal
DTSTART:20270805T120000Z
DTEND:20270805T124500Z
END:VEVENT
END:VCALENDAR
