BEGIN:VCALENDAR
VERSION:2.0
PRODID:SchoolNow
CALSCALE:GREGORIAN
BEGIN:VEVENT
UID:b2c7d684-d139-11f0-8993-0e11a532da43
DTSTAMP:20251216T154517Z
SUMMARY:Craft Club
LOCATION:room 214
URL;VALUE=URI:https://www.dg58.org/on/calendar/8817458/craft-club
DTSTART:20251217T213000Z
DTEND:20251217T221000Z
END:VEVENT
END:VCALENDAR
