BEGIN:VCALENDAR
VERSION:2.0
PRODID:SchoolNow
CALSCALE:GREGORIAN
BEGIN:VEVENT
UID:be824166-d06d-11f0-a0a1-0a58a9feac02
DTSTAMP:20251216T154518Z
SUMMARY:Jazz Band Rehearsal
LOCATION:Band Room
URL;VALUE=URI:https://www.dg58.org/on/calendar/8816775/jazz-band-rehearsal
DTSTART:20270803T120000Z
DTEND:20270803T124500Z
END:VEVENT
END:VCALENDAR
