BEGIN:VCALENDAR
VERSION:2.0
PRODID:SchoolNow
CALSCALE:GREGORIAN
BEGIN:VEVENT
UID:fb18e9bc-cba5-11f0-bf3a-025ff82bd291
DTSTAMP:20251216T154518Z
SUMMARY:Jazz Band Rehearsal
LOCATION:Band Room
URL;VALUE=URI:https://www.dg58.org/on/calendar/8810893/jazz-band-rehearsal
DTSTART:20270727T120000Z
DTEND:20270727T124500Z
END:VEVENT
END:VCALENDAR
