BEGIN:VCALENDAR
VERSION:2.0
PRODID:SchoolNow
CALSCALE:GREGORIAN
BEGIN:VEVENT
UID:2e142282-c7aa-11f0-808b-0282f9cfb1dd
DTSTAMP:20251216T154518Z
SUMMARY:Jazz Band Rehearsal
LOCATION:Band Room
URL;VALUE=URI:https://www.dg58.org/on/calendar/8807998/jazz-band-rehearsal
DTSTART:20270722T120000Z
DTEND:20270722T124500Z
END:VEVENT
END:VCALENDAR
