BEGIN:VCALENDAR
VERSION:2.0
PRODID:SchoolNow
CALSCALE:GREGORIAN
BEGIN:VEVENT
UID:48aaae04-c5ac-11f0-9af9-0ed40d2c5e9d
DTSTAMP:20251216T154518Z
SUMMARY:Drama Club
URL;VALUE=URI:https://www.dg58.org/on/calendar/8804530/drama-club
DTSTART:20260409T203000Z
DTEND:20260409T211000Z
END:VEVENT
END:VCALENDAR
