BEGIN:VCALENDAR
VERSION:2.0
PRODID:SchoolNow
CALSCALE:GREGORIAN
BEGIN:VEVENT
UID:48aaaa3a-c5ac-11f0-a187-0ed40d2c5e9d
DTSTAMP:20251216T154518Z
SUMMARY:Drama Club
URL;VALUE=URI:https://www.dg58.org/on/calendar/8804526/drama-club
DTSTART:20260312T203000Z
DTEND:20260312T211000Z
END:VEVENT
END:VCALENDAR
