BEGIN:VCALENDAR
VERSION:2.0
PRODID:SchoolNow
CALSCALE:GREGORIAN
BEGIN:VEVENT
UID:48aaa94a-c5ac-11f0-a742-0ed40d2c5e9d
DTSTAMP:20251216T154518Z
SUMMARY:Drama Club
URL;VALUE=URI:https://www.dg58.org/on/calendar/8804525/drama-club
DTSTART:20260305T213000Z
DTEND:20260305T221000Z
END:VEVENT
END:VCALENDAR
