BEGIN:VCALENDAR
VERSION:2.0
PRODID:SchoolNow
CALSCALE:GREGORIAN
BEGIN:VEVENT
UID:48aaa0d0-c5ac-11f0-8d76-0ed40d2c5e9d
DTSTAMP:20251216T154518Z
SUMMARY:Drama Club
URL;VALUE=URI:https://www.dg58.org/on/calendar/8804516/drama-club
DTSTART:20251225T213000Z
DTEND:20251225T221000Z
END:VEVENT
END:VCALENDAR
