BEGIN:VCALENDAR
VERSION:2.0
PRODID:SchoolNow
CALSCALE:GREGORIAN
BEGIN:VEVENT
UID:48aa9cde-c5ac-11f0-899a-0ed40d2c5e9d
DTSTAMP:20251216T154518Z
SUMMARY:Drama Club
URL;VALUE=URI:https://www.dg58.org/on/calendar/8804512/drama-club
DTSTART:20251127T213000Z
DTEND:20251127T221000Z
END:VEVENT
END:VCALENDAR
