BEGIN:VCALENDAR
VERSION:2.0
PRODID:SchoolNow
CALSCALE:GREGORIAN
BEGIN:VEVENT
UID:48aa9be4-c5ac-11f0-8c66-0ed40d2c5e9d
DTSTAMP:20251216T154518Z
SUMMARY:Drama Club
URL;VALUE=URI:https://www.dg58.org/on/calendar/8804511/drama-club
DTSTART:20251120T213000Z
DTEND:20251120T221000Z
END:VEVENT
END:VCALENDAR
