BEGIN:VCALENDAR
VERSION:2.0
PRODID:SchoolNow
CALSCALE:GREGORIAN
BEGIN:VEVENT
UID:48aa9ae0-c5ac-11f0-b348-0ed40d2c5e9d
DTSTAMP:20251216T154518Z
SUMMARY:Drama Club
URL;VALUE=URI:https://www.dg58.org/on/calendar/8804510/drama-club
DTSTART:20251113T213000Z
DTEND:20251113T221000Z
END:VEVENT
END:VCALENDAR
