BEGIN:VCALENDAR
VERSION:2.0
PRODID:SchoolNow
CALSCALE:GREGORIAN
BEGIN:VEVENT
UID:48aa987e-c5ac-11f0-8897-0ed40d2c5e9d
DTSTAMP:20251216T154518Z
SUMMARY:Drama Club
URL;VALUE=URI:https://www.dg58.org/on/calendar/8804508/drama-club
DTSTART:20251030T203000Z
DTEND:20251030T211000Z
END:VEVENT
END:VCALENDAR
