BEGIN:VCALENDAR
VERSION:2.0
PRODID:SchoolNow
CALSCALE:GREGORIAN
BEGIN:VEVENT
UID:48aa950e-c5ac-11f0-8b89-0ed40d2c5e9d
DTSTAMP:20251216T154518Z
SUMMARY:Drama Club
URL;VALUE=URI:https://www.dg58.org/on/calendar/8804507/drama-club
DTSTART:20251023T203000Z
DTEND:20251023T211000Z
END:VEVENT
END:VCALENDAR
