BEGIN:VCALENDAR
VERSION:2.0
PRODID:SchoolNow
CALSCALE:GREGORIAN
BEGIN:VEVENT
UID:47f5906e-c5ac-11f0-8e59-0ed40d2c5e9d
DTSTAMP:20251216T154517Z
SUMMARY:Student Council meeting
LOCATION:room 107
URL;VALUE=URI:https://www.dg58.org/on/calendar/8804502/student-council-meet
 ing
DTSTART:20251210T213000Z
DTEND:20251210T221000Z
END:VEVENT
END:VCALENDAR
