BEGIN:VCALENDAR
VERSION:2.0
PRODID:SchoolNow
CALSCALE:GREGORIAN
BEGIN:VEVENT
UID:47f58952-c5ac-11f0-bf1a-0ed40d2c5e9d
DTSTAMP:20251216T154517Z
SUMMARY:Wrestling Information Meeting
LOCATION:main gym
URL;VALUE=URI:https://www.dg58.org/on/calendar/8804501/wrestling-informatio
 n-meeting
DTSTART:20251202T213000Z
DTEND:20251202T221000Z
END:VEVENT
END:VCALENDAR
