BEGIN:VCALENDAR
VERSION:2.0
PRODID:SchoolNow
CALSCALE:GREGORIAN
BEGIN:VEVENT
UID:89e68ae6-c0b1-11f0-94c1-0edcea997c1d
DTSTAMP:20251216T154518Z
SUMMARY:Jazz Band Rehearsal
LOCATION:Band Room
URL;VALUE=URI:https://www.dg58.org/on/calendar/8793607/jazz-band-rehearsal
DTSTART:20270713T120000Z
DTEND:20270713T124500Z
END:VEVENT
END:VCALENDAR
